BEGIN:VCALENDAR
VERSION:2.0
PRODID:-//eventon.com NONSGML v1.0//EN
BEGIN:VEVENT
UID:69e6044b806d9
DTSTAMP:20260420T124739
DTSTART:20190617T220000Z
DTEND:20190617T220000Z
LOCATION:
SUMMARY:Menü 1 Chilli con carne
DESCRIPTION: Menü 1 Chilli con carne
END:VEVENT
END:VCALENDAR